BEGIN:VCALENDAR
VERSION:2.0
PRODID:-//Destin Pretzel Company - ECPv6.15.17.1//NONSGML v1.0//EN
CALSCALE:GREGORIAN
METHOD:PUBLISH
X-ORIGINAL-URL:https://destinpretzels.com
X-WR-CALDESC:Events for Destin Pretzel Company
REFRESH-INTERVAL;VALUE=DURATION:PT1H
X-Robots-Tag:noindex
X-PUBLISHED-TTL:PT1H
BEGIN:VTIMEZONE
TZID:America/New_York
BEGIN:DAYLIGHT
TZOFFSETFROM:-0500
TZOFFSETTO:-0400
TZNAME:EDT
DTSTART:20240310T070000
END:DAYLIGHT
BEGIN:STANDARD
TZOFFSETFROM:-0400
TZOFFSETTO:-0500
TZNAME:EST
DTSTART:20241103T060000
END:STANDARD
BEGIN:DAYLIGHT
TZOFFSETFROM:-0500
TZOFFSETTO:-0400
TZNAME:EDT
DTSTART:20250309T070000
END:DAYLIGHT
BEGIN:STANDARD
TZOFFSETFROM:-0400
TZOFFSETTO:-0500
TZNAME:EST
DTSTART:20251102T060000
END:STANDARD
BEGIN:DAYLIGHT
TZOFFSETFROM:-0500
TZOFFSETTO:-0400
TZNAME:EDT
DTSTART:20260308T070000
END:DAYLIGHT
BEGIN:STANDARD
TZOFFSETFROM:-0400
TZOFFSETTO:-0500
TZNAME:EST
DTSTART:20261101T060000
END:STANDARD
END:VTIMEZONE
BEGIN:VEVENT
DTSTART;TZID=America/New_York:20251003T180000
DTEND;TZID=America/New_York:20251003T203000
DTSTAMP:20260420T085926
CREATED:20251002T232443Z
LAST-MODIFIED:20251002T232443Z
UID:889-1759514400-1759523400@destinpretzels.com
SUMMARY:Destin Pretzels will be @ North Port Night Out
DESCRIPTION:Destin Pretzels is so happy to serve the community at North Port Night Out. \nThe members of the North Port Police Department are dedicated to providing exemplary service to help reduce crime and improve the quality of life for the residents of North Port. North Port Night Out was designed to build police and community partnerships and strengthen the relationship with the citizens that we serve. \nNorth Port Night Out gives us the opportunity to give back and highlight how much our community means to us. We encourage you to come out and meet your officers\, first responders\, and your neighbors in a fun\, family friendly environment. Together we can make a difference and help to keep our community safe. \n\nPublic Safety Demos\nK-9 Demo\nStatic Displays\nMusic\nEntertainment\nFood\nBounce Houses\nLaser Tag\nVendors
URL:https://destinpretzels.com/event/north-port-night-out-2/
LOCATION:North Port City Hall Center Green\, 4970 City Hall Blvd\, North Port\, FL\, 34286\, United States
ATTACH;FMTTYPE=image/jpeg:https://destinpretzels.com/wp-content/uploads/2025/10/481662123_957860449870955_6969558563143121498_n.jpg
ORGANIZER;CN="Norht Port Police Department":MAILTO:communitypolicing@northportpdfl.gov
END:VEVENT
BEGIN:VEVENT
DTSTART;TZID=America/New_York:20251004T120000
DTEND;TZID=America/New_York:20251004T200000
DTSTAMP:20260420T085926
CREATED:20251002T233426Z
LAST-MODIFIED:20251002T233440Z
UID:893-1759579200-1759608000@destinpretzels.com
SUMMARY:Foxtoberfest with Destin Pretzels & Charlie Foxtrot Brewing
DESCRIPTION:Celebrate October at the Annual Foxtoberfest with a delicious Mini-pretzel dog or Pretzel!\n\nProst! Celebrate Foxtoberfest with Charlie Foxtrot Brewing!\n\nJoin us for our annual Foxtoberfest on Saturday\, October 4\, 2025!\nEnjoy authentic German music\, delicious food\, drink specials\, and more!Here’s what to look forward to:* Live music by Petra & Teresa 12-4* Jason Brownie Playing 4-6* I-75 Acoustic Rock Playing 6-8* Authentic German food by Currywurst SRQ* Traditional German desserts by Spelltacular Sweets* Destin Pretzels* BBQ Art* Burger Bench * Stein Holding Competition* Das Boots* Sausage Throwing Contest* Costume Contest* Door Prizes * Kids Activities * And a few surprises!Don’t miss out on the fun!\nOrder your shirts now! At www.cf-brewing.com\nThere is a $10 Entry fee for anyone 21 and over.\nPlease Drink Responsibily\n\nCharlie Foxtrot Brewing#Foxtoberfest #CharlieFoxtrotBrewing \nSee less
URL:https://destinpretzels.com/event/foxtoberfest-with-destin-pretzels-charlie-foxtrot-brewing-2/
LOCATION:Charlie Foxtrot Brewing\, 1700 Tamiami Trail\, STE A5\, Port Charlotte\, Florida\, 33948
ATTACH;FMTTYPE=image/jpeg:https://destinpretzels.com/wp-content/uploads/2025/10/556878219_1380546714079249_8850364997962762673_n.jpg
END:VEVENT
BEGIN:VEVENT
DTSTART;TZID=America/New_York:20251010T170000
DTEND;TZID=America/New_York:20251010T220000
DTSTAMP:20260420T085926
CREATED:20251010T204903Z
LAST-MODIFIED:20251010T204903Z
UID:899-1760115600-1760133600@destinpretzels.com
SUMMARY:Englewood Beach Waterfest
DESCRIPTION:Destin Pretzels will be at the annual BLOCK PARTY is coming up this Friday night – we couldn’t offer family friendly and FREE\, community events without the help of our local businesses!Thank you to our Entertainment Sponsor Fire It Up Grills & Outdoor Features and our coffee  sponsor The Dearborn Coffeehouse and Bakery – Joe Maxx and for helping us! \n  \nEnglewood Beach Waterfest WEEKEND is PLANNED for Oct 9-12th\, 2025. COMMUNITY BLOCK PARTY will be held again this year\, Friday\, Oct 10th 5-10pm right on Dearborn Street & Pioneer Plaza. Thank you to our PRESENTING Sponsor NMB RV RESORT!
URL:https://destinpretzels.com/event/englewood-beach-waterfest/
LOCATION:Dearborn Street Farmers Market\, 348 W Dearborn St\, Englewood\, FL\, United States
ATTACH;FMTTYPE=image/jpeg:https://destinpretzels.com/wp-content/uploads/2025/10/558101602_1401787575286448_494884403709833293_n.jpg
END:VEVENT
BEGIN:VEVENT
DTSTART;TZID=America/New_York:20251019T160000
DTEND;TZID=America/New_York:20251019T190000
DTSTAMP:20260420T085926
CREATED:20251018T173227Z
LAST-MODIFIED:20251018T173227Z
UID:903-1760889600-1760900400@destinpretzels.com
SUMMARY:Gulf Coast Church Fall Festival
DESCRIPTION:The Gulf Coast Church  Fall Festival\nWe hope to see You and the Family there!\n\n\n\nEVENT: Fall Festival @ Gulf Coast Church // 4-7PM \n\n\n\nACTIVITIES: Bounce Houses\, Rock Climbing Wall\, Carnival Games\, Face Painting\, Cotton Candy\, Popcorn & more!  \n\n\nLOCATION: 2800 Pan American Boulevard\, North Port\, FL 34287\n\n\nSTAY TUNED FOR MORE EXCITING EVENTS : Follow us on Facebook and Instagram @gccnorthport
URL:https://destinpretzels.com/event/gulf-coast-church-fall-festival-2/
LOCATION:Gulf Coast Church\, 2800 Pan American Boulevard\, North Port\, FL\, 34287
ATTACH;FMTTYPE=image/jpeg:https://destinpretzels.com/wp-content/uploads/2025/10/546897745_1098590292421357_1191375970837741787_n.jpg
ORGANIZER;CN="Gulf Coast Church":MAILTO:info@gulfcoastchurch.net
END:VEVENT
BEGIN:VEVENT
DTSTART;TZID=America/New_York:20251025T180000
DTEND;TZID=America/New_York:20251025T200000
DTSTAMP:20260420T085926
CREATED:20251024T205422Z
LAST-MODIFIED:20251024T205441Z
UID:908-1761415200-1761422400@destinpretzels.com
SUMMARY:Destin Pretzels @ Franz Ross YMCA Trunk or Treat
DESCRIPTION:Destin Pretzels will be serving up their delicious Mini-Pretzel Dogs and Pretzels this Saturday at the YMCA Trunk or Treat at the Franz Ross YMCA in Port Charlotte\, FL. on October 25th from 6-8 pm! \nCome out and  enjoy a Pretzel ! \n  \nJoin us on Saturday October 26th from 5pm -7pm for our annual Trunk or Treat!Fun for the whole family!   For more details contact Sarah at spomerantz@ymcaswfl.org!
URL:https://destinpretzels.com/event/destin-pretzels-franz-ross-ymca-in-port-charlotte-on-03-23-2024-2-2/
LOCATION:YMCA – Franz Ross Park Branch\, 19333 Quesada Ave\,\, Port Charlotte\, FL\, 33948\, United States
ATTACH;FMTTYPE=image/jpeg:https://destinpretzels.com/wp-content/uploads/2024/03/IMG_1153.jpg
END:VEVENT
BEGIN:VEVENT
DTSTART;TZID=America/New_York:20251026T160000
DTEND;TZID=America/New_York:20251026T190000
DTSTAMP:20260420T085926
CREATED:20251026T163223Z
LAST-MODIFIED:20251026T163223Z
UID:912-1761494400-1761505200@destinpretzels.com
SUMMARY:Destin Pretzels will be at Edgewater Church for Fall Fest
DESCRIPTION:Fall Fest  \nFall Fest at Edgewater Church!\nSaturday\, October 26 | 4:00–7:00 PMCome be part of an evening full of family fun\, laughter\, and community connection at Edgewater Church! Our annual Fall Fest is a free event open to everyone — and we can’t wait to celebrate the season together. \nWhat to Expect:\n• Exciting inflatables and games for all ages\n• Creative crafts and family activities\n• A festive costume parade — come dressed up!\n• Live music and a special performance from a Gospel Magician\n• Delicious eats from local food trucks \nBring your friends\, neighbors\, and family for an unforgettable evening of fun\, food\, and fellowship. Whether you’re coming for the games\, the music\, or just to enjoy the fall vibes — there’s something for everyone! \nEdgewater Church\nOctober 26\, 4:00–7:00 PM\nFREE Community Event — All Are Welcome! \nWe can’t wait to see you there!
URL:https://destinpretzels.com/event/destin-pretzels-will-be-at-edgewater-church-for-fall-fest/
LOCATION:Edgewater Church\, 19190 Cochran Blvd\, \, FL\, Port Charlotte\, FL\, 33948-2028\, United States
ATTACH;FMTTYPE=image/png:https://destinpretzels.com/wp-content/uploads/2025/10/FALL-FEST-1920-x-1080-px.png
END:VEVENT
END:VCALENDAR