BEGIN:VCALENDAR
VERSION:2.0
PRODID:-//Destin Pretzel Company - ECPv6.15.17.1//NONSGML v1.0//EN
CALSCALE:GREGORIAN
METHOD:PUBLISH
X-ORIGINAL-URL:https://destinpretzels.com
X-WR-CALDESC:Events for Destin Pretzel Company
REFRESH-INTERVAL;VALUE=DURATION:PT1H
X-Robots-Tag:noindex
X-PUBLISHED-TTL:PT1H
BEGIN:VTIMEZONE
TZID:America/New_York
BEGIN:DAYLIGHT
TZOFFSETFROM:-0500
TZOFFSETTO:-0400
TZNAME:EDT
DTSTART:20240310T070000
END:DAYLIGHT
BEGIN:STANDARD
TZOFFSETFROM:-0400
TZOFFSETTO:-0500
TZNAME:EST
DTSTART:20241103T060000
END:STANDARD
BEGIN:DAYLIGHT
TZOFFSETFROM:-0500
TZOFFSETTO:-0400
TZNAME:EDT
DTSTART:20250309T070000
END:DAYLIGHT
BEGIN:STANDARD
TZOFFSETFROM:-0400
TZOFFSETTO:-0500
TZNAME:EST
DTSTART:20251102T060000
END:STANDARD
BEGIN:DAYLIGHT
TZOFFSETFROM:-0500
TZOFFSETTO:-0400
TZNAME:EDT
DTSTART:20260308T070000
END:DAYLIGHT
BEGIN:STANDARD
TZOFFSETFROM:-0400
TZOFFSETTO:-0500
TZNAME:EST
DTSTART:20261101T060000
END:STANDARD
BEGIN:DAYLIGHT
TZOFFSETFROM:-0500
TZOFFSETTO:-0400
TZNAME:EDT
DTSTART:20270314T070000
END:DAYLIGHT
BEGIN:STANDARD
TZOFFSETFROM:-0400
TZOFFSETTO:-0500
TZNAME:EST
DTSTART:20271107T060000
END:STANDARD
END:VTIMEZONE
BEGIN:VEVENT
DTSTART;TZID=America/New_York:20251206T160000
DTEND;TZID=America/New_York:20251206T200000
DTSTAMP:20260420T002122
CREATED:20251112T182704Z
LAST-MODIFIED:20251112T182704Z
UID:926-1765036800-1765051200@destinpretzels.com
SUMMARY:Destin Pretzels @ 2025 Poinsettia Parade & Festival
DESCRIPTION:Join Destin Pretzels and the Parks & Recreations Department for the annual Poinsettia Parade\, presented by Quality TV\, a North Port tradition  Spectator admission and parking are both free and this year’s theme is “North Port Holidays Around the World.” \nThe Poinsettia Parade will travel south down Sumter Blvd.\, ending at the City Center Front Green\, 4970 City Hall Blvd.\, where the Poinsettia Festival\, presented by Achieva Credit Union\, will be held before and after the parade from 4 – 8 p.m.  In the past\, the parade has featured more than 50 units\, including local businesses and organizations. The Poinsettia Festival will feature the annual tree lighting ceremony as well as mobile food vendors\, entertainment\, attractions\, merchandise vendors\, and much more. Businesses or organizations that would like to be involved are invited to bookmark this page as the vendor registration form will be available in early October.
URL:https://destinpretzels.com/event/2025-poinsettia-parade-festival-2-2/
LOCATION:North Port City Hall Center Green\, 4970 City Hall Blvd\, North Port\, FL\, 34286\, United States
ATTACH;FMTTYPE=image/jpeg:https://destinpretzels.com/wp-content/uploads/2023/10/5d4a1c8f5122c8c6aded6544c18fca9e0feb005b839eb5a4cb8e7232a002cf40-rimg-w960-h502-gmir.jpg
END:VEVENT
BEGIN:VEVENT
DTSTART;TZID=America/New_York:20260110T100000
DTEND;TZID=America/New_York:20260110T140000
DTSTAMP:20260420T002122
CREATED:20260110T131729Z
LAST-MODIFIED:20260110T131750Z
UID:937-1768039200-1768053600@destinpretzels.com
SUMMARY:North Port Fire and Rescue Open House
DESCRIPTION:Tour the North Port Fire Rescue Training Tower at their OPEN HOUSE event happening on Jan 20 from 10 a.m. until 2 p.m. \n6664 W. Price Blvd. N Port. \n▪ Bounce houses\n▪ Face painting\n▪ Interactive displays\n….and more!
URL:https://destinpretzels.com/event/north-port-fire-and-rescue-open-house-2/
LOCATION:North Port Fire and Rescue\, 6664 West Price Blvd.\, North Port\, Florida\, 34291
ATTACH;FMTTYPE=image/jpeg:https://destinpretzels.com/wp-content/uploads/2024/01/IMG_3329-scaled-e1710187253187.jpg
ORGANIZER;CN="City of North Port":MAILTO:Parks@NorthPortFL.gov
END:VEVENT
BEGIN:VEVENT
DTSTART;TZID=America/New_York:20260127T170000
DTEND;TZID=America/New_York:20260127T190000
DTSTAMP:20260420T002122
CREATED:20260127T184613Z
LAST-MODIFIED:20260127T184613Z
UID:942-1769533200-1769540400@destinpretzels.com
SUMMARY:Destin Pretzels @ Lamarque STEM night
DESCRIPTION:STEM Family Night  \nFamilies – please join us for a fun-filled STEM event.\n\n3415 Lamarque Ave\, North Port\, FL 34286\, USA
URL:https://destinpretzels.com/event/destin-pretzels-lamarque-fall-festival-2/
LOCATION:Lamarque Elementary\, 3415 Lamarque Avenue\, North Port\, FL\, 34286
ATTACH;FMTTYPE=image/jpeg:https://destinpretzels.com/wp-content/uploads/2026/01/large_49ab2b9b-9ac5-4ce2-a30b-fd2893fc5a19-1746526320.jpeg
END:VEVENT
BEGIN:VEVENT
DTSTART;TZID=America/New_York:20260205T180000
DTEND;TZID=America/New_York:20260205T200000
DTSTAMP:20260420T002122
CREATED:20260204T160606Z
LAST-MODIFIED:20260204T160606Z
UID:947-1770314400-1770321600@destinpretzels.com
SUMMARY:Destin Pretzels @ North Port High School SPIN night !
DESCRIPTION:Come grab a pretzel or our famous mini-pretzel dogs while learning about\n\nCALLING ALL 8TH GRADE FAMILIES!\nSPIN Night is coming!!!!The Student Parent Information Night event for next year’s Freshman class is taking place Thursday\, February 5th from 6pm-8pm!Come preview all of our amazing programs\, clubs\, and athletics! North Port High school offers Cambridge AICE diploma (be sure to check back later tonight for details on our AICE Info Night coming up on 02/12)\, award winning Career & Technical Education programs\, Visual & Performing Arts Magne…\n\nSee more\n\n— with Woodland Middle School and Heron Creek Middle School.
URL:https://destinpretzels.com/event/destin-pretzels-north-port-high-school-spin-night/
LOCATION:North Port High School\, 6400 West Price Blvd.\, North Port\, FL\, 34291\, United States
ATTACH;FMTTYPE=image/jpeg:https://destinpretzels.com/wp-content/uploads/2026/02/625490601_1602814134694016_7718234581841029942_n.jpg
END:VEVENT
BEGIN:VEVENT
DTSTART;TZID=America/New_York:20260206T190000
DTEND;TZID=America/New_York:20260206T210000
DTSTAMP:20260420T002122
CREATED:20260206T163818Z
LAST-MODIFIED:20260206T163818Z
UID:958-1770404400-1770411600@destinpretzels.com
SUMMARY:Destin Pretzels at North Port High School Soccer
DESCRIPTION:Come grab one of our famous Pretzels or a cup of delicious mini dogs while cheering on North Port High School’s neutral playoff match  – The Plant (Tampa\, FL) varsity soccer team has a vs. North Port (FL) today @ 7p. \n \n 
URL:https://destinpretzels.com/event/destin-pretzels-at-north-port-high-school-soccer/
LOCATION:North Port High School\, 6400 West Price Blvd.\, North Port\, FL\, 34291\, United States
ATTACH;FMTTYPE=image/jpeg:https://destinpretzels.com/wp-content/uploads/2026/02/17453880539490239035.jpg
END:VEVENT
BEGIN:VEVENT
DTSTART;TZID=America/New_York:20260207T100000
DTEND;TZID=America/New_York:20260207T140000
DTSTAMP:20260420T002122
CREATED:20260204T161316Z
LAST-MODIFIED:20260204T161416Z
UID:951-1770458400-1770472800@destinpretzels.com
SUMMARY:Destin Pretzels will be at Woofstock 2026 !!!
DESCRIPTION:We are so excited to be a part of Woofstock this year ! \n\nNorth Port Parks & Recreation is excited to announce the return of Woofstock 2026! Join us on Saturday\, Feb. 7\, 2026\, from 10 a.m. to 2 p.m. at Butler Park\, 6203 W. Price Blvd.\, for a tail-wagging good time! This fun-filled day will feature: \n\nGroovy garments best dressed dog contest\nThrilling K-9 demonstrations\nOpportunities to connect with local businesses to learn about pet products and services\nThe chance to meet new furry friends and their owners\nDelicious food from local food trucks for purchase\n\nWant to spread some love? Rescue Garage\, a local animal rescue\, will be onsite with adorable adoptable dogs looking for their forever homes! Donations of dog food and supplies will be collected to support their mission of helping pets in need. \nMore event details\, including the full schedule\, will be available soon—bookmark NorthPortFL.gov/Woofstock to stay updated! \nImportant Event Reminders: \n\nAll dogs must be vaccinated\, wear current tags\, and remain leashed at all times.\nHandlers must be at least 18 years old.\nAny dog displaying aggressive behavior must be immediately removed from the park by its handler.\nOwners/handlers must clean up after their pet.
URL:https://destinpretzels.com/event/woofstock-2026/
LOCATION:Butler Park\, 6203 W. Price Blvd\, North Port\, FL\, 34287
ATTACH;FMTTYPE=image/jpeg:https://destinpretzels.com/wp-content/uploads/2026/02/614133987_1189792923263209_8980081012482743238_n.jpg
ORGANIZER;CN="City of North Port":MAILTO:Parks@NorthPortFL.gov
END:VEVENT
BEGIN:VEVENT
DTSTART;TZID=America/New_York:20260219T160000
DTEND;TZID=America/New_York:20260219T210000
DTSTAMP:20260420T002122
CREATED:20260219T181911Z
LAST-MODIFIED:20260219T182404Z
UID:965-1771516800-1771534800@destinpretzels.com
SUMMARY:Destin Pretzels @ the 37th Italian Feast and Carnival !
DESCRIPTION:Italian takeover is this week!  Annual Italian Feast & Carnival at the Airport Festival Grounds runs Thursday-Sunday\, and the 1000 Miglia race cars roll through Downtown Venice and Centennial Park late Saturday morning.    \n\nIt is officially time for one of my absolute favorite local traditions! Starting today\, February 19th\, through Sunday the 22nd\, the Venice Airport Festival Grounds are transforming into a little slice of Italy right here in Florida.\n\n\nI don’t know about you\, but I’m already dreaming about the homemade pretzels and mini-pretzel dogs.  Whether you’re coming for the world-class food\, the carnival rides\, or just the great live music\, it’s always such a fun way to spend the weekend with friends and family.\n\n\nHere are the quick details so you can plan your visit:\n Where: Venice Airport Festival Grounds\n When: Feb 19–22\n Times:\n– Thurs & Fri: 4pm-11pm\n– Sat: 11am-11pm\n– Sun: 11am-9pm\n\n\nAdmission is $5 (kids 12 and under are free!)\, and parking is also free. It’s such a great way to support our local community and enjoy some of that gorgeous February weather we love so much.
URL:https://destinpretzels.com/event/destin-pretzels-the-37th-italian-feast-and-carnival-2/
LOCATION:Venice Airport Fairgrounds\, Airport Avenue West\, Venice\, FL\, 34285
ATTACH;FMTTYPE=image/jpeg:https://destinpretzels.com/wp-content/uploads/2026/02/37thItalianFeastFlyer-scaled.jpg
END:VEVENT
BEGIN:VEVENT
DTSTART;TZID=America/New_York:20260220T160000
DTEND;TZID=America/New_York:20260220T210000
DTSTAMP:20260420T002122
CREATED:20260219T182608Z
LAST-MODIFIED:20260219T182608Z
UID:976-1771603200-1771621200@destinpretzels.com
SUMMARY:Destin Pretzels @ the 37th Italian Feast and Carnival on Friday too !
DESCRIPTION:Italian takeover is this week!  Annual Italian Feast & Carnival at the Airport Festival Grounds runs Thursday-Sunday\, and the 1000 Miglia race cars roll through Downtown Venice and Centennial Park late Saturday morning.    \n\nIt is officially time for one of my absolute favorite local traditions! Starting today\, February 19th\, through Sunday the 22nd\, the Venice Airport Festival Grounds are transforming into a little slice of Italy right here in Florida.\n\n\nI don’t know about you\, but I’m already dreaming about the homemade pretzels and mini-pretzel dogs.  Whether you’re coming for the world-class food\, the carnival rides\, or just the great live music\, it’s always such a fun way to spend the weekend with friends and family.\n\n\nHere are the quick details so you can plan your visit:\n Where: Venice Airport Festival Grounds\n When: Feb 19–22\n Times:\n– Thurs & Fri: 4pm-11pm\n– Sat: 11am-11pm\n– Sun: 11am-9pm\n\n\nAdmission is $5 (kids 12 and under are free!)\, and parking is also free. It’s such a great way to support our local community and enjoy some of that gorgeous February weather we love so much.
URL:https://destinpretzels.com/event/destin-pretzels-the-37th-italian-feast-and-carnival/
LOCATION:Venice Airport Fairgrounds\, Airport Avenue West\, Venice\, FL\, 34285
ATTACH;FMTTYPE=image/jpeg:https://destinpretzels.com/wp-content/uploads/2026/02/37thItalianFeastFlyer-scaled.jpg
END:VEVENT
BEGIN:VEVENT
DTSTART;TZID=America/New_York:20260221T120000
DTEND;TZID=America/New_York:20260222T210000
DTSTAMP:20260420T002122
CREATED:20260219T182900Z
LAST-MODIFIED:20260219T182900Z
UID:982-1771675200-1771794000@destinpretzels.com
SUMMARY:Destin Pretzels @ the 37th Italian Feast and Carnival on Saturday & Sunday
DESCRIPTION:Italian takeover is this week!  Annual Italian Feast & Carnival at the Airport Festival Grounds runs Thursday-Sunday\, and the 1000 Miglia race cars roll through Downtown Venice and Centennial Park late Saturday morning.    \n\nIt is officially time for one of my absolute favorite local traditions! Starting today\, February 19th\, through Sunday the 22nd\, the Venice Airport Festival Grounds are transforming into a little slice of Italy right here in Florida.\n\n\nI don’t know about you\, but I’m already dreaming about the homemade pretzels and mini-pretzel dogs.  Whether you’re coming for the world-class food\, the carnival rides\, or just the great live music\, it’s always such a fun way to spend the weekend with friends and family.\n\n\nHere are the quick details so you can plan your visit:\n Where: Venice Airport Festival Grounds\n When: Feb 19–22\n Times:\n– Thurs & Fri: 4pm-11pm\n– Sat: 11am-11pm\n– Sun: 11am-9pm\n\n\nAdmission is $5 (kids 12 and under are free!)\, and parking is also free. It’s such a great way to support our local community and enjoy some of that gorgeous February weather we love so much.
URL:https://destinpretzels.com/event/destin-pretzels-the-37th-italian-feast-and-carnival-3/
LOCATION:Venice Airport Fairgrounds\, Airport Avenue West\, Venice\, FL\, 34285
ATTACH;FMTTYPE=image/jpeg:https://destinpretzels.com/wp-content/uploads/2026/02/37thItalianFeastFlyer-scaled.jpg
END:VEVENT
BEGIN:VEVENT
DTSTART;TZID=America/New_York:20260321T100000
DTEND;TZID=America/New_York:20260321T220000
DTSTAMP:20260420T002122
CREATED:20260321T140814Z
LAST-MODIFIED:20260321T140814Z
UID:986-1774087200-1774130400@destinpretzels.com
SUMMARY:Destin Pretzels @ Boots & Brews Country Music Festival 2026
DESCRIPTION:Make plans to join us for a FREE Community-wide Small Town Country Music Festival held on Saturday\, March 21st from 10am-10pm at the Dignam Stage at Pioneer Plaza on Dearborn Street in Historic Old Englewood!\n\nWe will have LIVE Music ALL-DAY-LONG featuring local country musicians like Everett Ferrell\, Flat Water\, and Pure Country!\nIn addition to country music we will have:*\n—Food Vendors\n—Retail Pop-Up Shops\n—Beer and a FULL Bar setup onsite\n—AXE Throwing\n—Ride the MECHANICAL BULL\n*ALL Available for purchase cash and credit-card ready!\n\nChairs and Tables will be available for your convenience!\nThis is a fundraising event presented by Lemon Bay Sunrise Rotary\, a 501 (c) (3) Florida non-profit organization.
URL:https://destinpretzels.com/event/destin-pretzels-boots-brews-country-music-festival-2026/
LOCATION:Pioneer Plaza\, 325 West Dearborn Street\, Englewood\, FL\, 34223
ATTACH;FMTTYPE=image/jpeg:https://destinpretzels.com/wp-content/uploads/2026/03/655220469_917440341280978_814573714222258403_n.jpg
END:VEVENT
BEGIN:VEVENT
DTSTART;TZID=America/New_York:20260406T173000
DTEND;TZID=America/New_York:20260406T210000
DTSTAMP:20260420T002122
CREATED:20260406T153856Z
LAST-MODIFIED:20260406T153856Z
UID:992-1775496600-1775509200@destinpretzels.com
SUMMARY:Miss North Port Fast Pitch Community and First Responder Night
DESCRIPTION:Event by North Port High School Softball \n\n\n\n\n\n\n\n\n\n\n\n\n6400 West Price Blvd.\, North Port\, FL\, United States\, Florida 34291\n\n\n\n\n\n\n\n\n\n\n\n\n\n\n\n\n\n\n\nCommunity Night is almost here! \nJoin us Monday\, April 6 for an exciting home game\, meet local heroes\, and cheer on your Bobcats under the lights! \n Fans arrive at 5:30 PM Varsity at 7:00 PM Free entry for youth players wearing their jersey\n\nLet’s pack the stands—see you there!
URL:https://destinpretzels.com/event/miss-north-port-fast-pitch-community-and-first-responder-night/
LOCATION:North Port High School\, 6400 West Price Blvd.\, North Port\, FL\, 34291\, United States
ATTACH;FMTTYPE=image/jpeg:https://destinpretzels.com/wp-content/uploads/2026/04/657597418_927662230235003_7853809786673053061_n.jpg
END:VEVENT
END:VCALENDAR