BEGIN:VCALENDAR
VERSION:2.0
PRODID:-//Destin Pretzel Company - ECPv6.15.17.1//NONSGML v1.0//EN
CALSCALE:GREGORIAN
METHOD:PUBLISH
X-ORIGINAL-URL:https://destinpretzels.com
X-WR-CALDESC:Events for Destin Pretzel Company
REFRESH-INTERVAL;VALUE=DURATION:PT1H
X-Robots-Tag:noindex
X-PUBLISHED-TTL:PT1H
BEGIN:VTIMEZONE
TZID:America/New_York
BEGIN:DAYLIGHT
TZOFFSETFROM:-0500
TZOFFSETTO:-0400
TZNAME:EDT
DTSTART:20240310T070000
END:DAYLIGHT
BEGIN:STANDARD
TZOFFSETFROM:-0400
TZOFFSETTO:-0500
TZNAME:EST
DTSTART:20241103T060000
END:STANDARD
BEGIN:DAYLIGHT
TZOFFSETFROM:-0500
TZOFFSETTO:-0400
TZNAME:EDT
DTSTART:20250309T070000
END:DAYLIGHT
BEGIN:STANDARD
TZOFFSETFROM:-0400
TZOFFSETTO:-0500
TZNAME:EST
DTSTART:20251102T060000
END:STANDARD
BEGIN:DAYLIGHT
TZOFFSETFROM:-0500
TZOFFSETTO:-0400
TZNAME:EDT
DTSTART:20260308T070000
END:DAYLIGHT
BEGIN:STANDARD
TZOFFSETFROM:-0400
TZOFFSETTO:-0500
TZNAME:EST
DTSTART:20261101T060000
END:STANDARD
END:VTIMEZONE
BEGIN:VEVENT
DTSTART;TZID=America/New_York:20251108T120000
DTEND;TZID=America/New_York:20251108T210000
DTSTAMP:20260420T085218
CREATED:20251107T195225Z
LAST-MODIFIED:20251107T195225Z
UID:922-1762603200-1762635600@destinpretzels.com
SUMMARY:Destin Pretzels will be at Vets for Vets
DESCRIPTION:Stop by while your at the Vets for Vets and grab a delicious fresh baked Pretzel or Mini Dog ! \n  \n🇺🇸 Vets for Vets – Veterans Day Festival | Live Music at Centennial Park\, Venice FL \nJoin us on Saturday\, November 8\, 2025\, for a full day of live music\, food\, drinks\, and community spirit as we come together to honor those who’ve served. The Vets for Vets Veterans Day Festival celebrates service through the power of music — featuring an all-day lineup of incredible performers\, including several who are veterans themselves. \n🎶 Live Music Lineup: \n\n– Soulful and uplifting start to the day\n– Blues\, rock & roll\, and a touch of country\n– Conscious reggae with heart and message\n– Gulf Coast rock with powerhouse vocals and 90s energy\n– Voted “Best of the Bay\,” Tampa’s top reggae/ska band\n– Sarasota’s award-winning 80s party band and festival headliner\n\n🎟 Free Admission | Family-Friendly | Bring Your Own Chair \nEnjoy live performances\, great local food\, and artisan vendors in the heart of Venice\, Florida. Whether you’re a veteran\, a supporter\, or just looking for an amazing day of music and community — everyone’s welcome. \n📅 Saturday\, November 8\, 2025\n🕐 Music starts at 12 Noon\n📍 Centennial Park\, Venice FL \nCome out\, celebrate\, and show your support for our veterans — because honoring service should always sound this good. \n#VeniceNights #VetsForVets #VeteransDayFestival #VeniceFloridaVeterans #SWFLVeterans #LiveMusicVeniceFL #ThingstoDoInVeniceFL
URL:https://destinpretzels.com/event/destin-pretzels-will-be-at-vets-for-vets/
LOCATION:Centennial Park Recreation Center\, 1120 Centennial Blvd.\, Port Charlotte\, 33953
ATTACH;FMTTYPE=image/jpeg:https://destinpretzels.com/wp-content/uploads/2025/11/81a26450-baac-11f0-a5ac-c5732d107508-rimg-w538-h740-dc43301d-gmir.jpg
END:VEVENT
END:VCALENDAR