BEGIN:VCALENDAR
VERSION:2.0
PRODID:-//Destin Pretzel Company - ECPv6.15.17.1//NONSGML v1.0//EN
CALSCALE:GREGORIAN
METHOD:PUBLISH
X-WR-CALNAME:Destin Pretzel Company
X-ORIGINAL-URL:https://destinpretzels.com
X-WR-CALDESC:Events for Destin Pretzel Company
REFRESH-INTERVAL;VALUE=DURATION:PT1H
X-Robots-Tag:noindex
X-PUBLISHED-TTL:PT1H
BEGIN:VTIMEZONE
TZID:America/New_York
BEGIN:DAYLIGHT
TZOFFSETFROM:-0500
TZOFFSETTO:-0400
TZNAME:EDT
DTSTART:20230312T070000
END:DAYLIGHT
BEGIN:STANDARD
TZOFFSETFROM:-0400
TZOFFSETTO:-0500
TZNAME:EST
DTSTART:20231105T060000
END:STANDARD
BEGIN:DAYLIGHT
TZOFFSETFROM:-0500
TZOFFSETTO:-0400
TZNAME:EDT
DTSTART:20240310T070000
END:DAYLIGHT
BEGIN:STANDARD
TZOFFSETFROM:-0400
TZOFFSETTO:-0500
TZNAME:EST
DTSTART:20241103T060000
END:STANDARD
BEGIN:DAYLIGHT
TZOFFSETFROM:-0500
TZOFFSETTO:-0400
TZNAME:EDT
DTSTART:20250309T070000
END:DAYLIGHT
BEGIN:STANDARD
TZOFFSETFROM:-0400
TZOFFSETTO:-0500
TZNAME:EST
DTSTART:20251102T060000
END:STANDARD
END:VTIMEZONE
BEGIN:VEVENT
DTSTART;TZID=America/New_York:20241102T093000
DTEND;TZID=America/New_York:20241102T123000
DTSTAMP:20260422T072737
CREATED:20241101T231427Z
LAST-MODIFIED:20241101T231427Z
UID:802-1730539800-1730550600@destinpretzels.com
SUMMARY:Destin Pretzel Company @ Shop Local North Port
DESCRIPTION:We are so excited to be a part of the vibrant community hub of the Shop Local Market.  Farmers\, artisans\, and locals converge in a celebration of fresh\, locally sourced food and handmade goods\, bustling with activity and filled with colorful displays of seasonal produce\, homemade baked goods\, artisanal cheeses\, and unique crafts. \nFor us\, the most appealing part of the local market is the direct connection it fosters between consumers and producers. At the North Port local market\, you can meet the farmers who grew your vegetables\, chat with the bakers who made your bread\, and learn about the techniques used to create the goods you’re buying. This transparency creates a sense of trust and community\, as shoppers gain insight into where their food comes from and how it’s produced. \nDestin Pretzel Company’s soft baked pretzels are a delightful and savory treat that has become a beloved snack around Port Charlotte and Sarasota counties. Enjoyed fresh out of the oven our soft baked pretzels offer a satisfying combination of chewy texture\, salty crunch\, and comforting flavor. They are a nostalgic treat for many\, evoking memories of childhood or travel experiences. \nShop Local North Port Market
URL:https://destinpretzels.com/event/destin-pretzel-company-shop-local-north-port-2/
LOCATION:North Port Local Market\, 2525 Bobcat Trail\, North Port\, Florida\, 34288
ATTACH;FMTTYPE=image/jpeg:https://destinpretzels.com/wp-content/uploads/2024/06/448734241_122124789734288771_5816126124101078745_n.jpg
END:VEVENT
END:VCALENDAR