BEGIN:VCALENDAR
VERSION:2.0
PRODID:-//Destin Pretzel Company - ECPv6.15.17.1//NONSGML v1.0//EN
CALSCALE:GREGORIAN
METHOD:PUBLISH
X-ORIGINAL-URL:https://destinpretzels.com
X-WR-CALDESC:Events for Destin Pretzel Company
REFRESH-INTERVAL;VALUE=DURATION:PT1H
X-Robots-Tag:noindex
X-PUBLISHED-TTL:PT1H
BEGIN:VTIMEZONE
TZID:America/New_York
BEGIN:DAYLIGHT
TZOFFSETFROM:-0500
TZOFFSETTO:-0400
TZNAME:EDT
DTSTART:20230312T070000
END:DAYLIGHT
BEGIN:STANDARD
TZOFFSETFROM:-0400
TZOFFSETTO:-0500
TZNAME:EST
DTSTART:20231105T060000
END:STANDARD
BEGIN:DAYLIGHT
TZOFFSETFROM:-0500
TZOFFSETTO:-0400
TZNAME:EDT
DTSTART:20240310T070000
END:DAYLIGHT
BEGIN:STANDARD
TZOFFSETFROM:-0400
TZOFFSETTO:-0500
TZNAME:EST
DTSTART:20241103T060000
END:STANDARD
BEGIN:DAYLIGHT
TZOFFSETFROM:-0500
TZOFFSETTO:-0400
TZNAME:EDT
DTSTART:20250309T070000
END:DAYLIGHT
BEGIN:STANDARD
TZOFFSETFROM:-0400
TZOFFSETTO:-0500
TZNAME:EST
DTSTART:20251102T060000
END:STANDARD
END:VTIMEZONE
BEGIN:VEVENT
DTSTART;TZID=America/New_York:20241026T110000
DTEND;TZID=America/New_York:20241026T150000
DTSTAMP:20260422T072913
CREATED:20241026T143421Z
LAST-MODIFIED:20241026T143421Z
UID:796-1729940400-1729954800@destinpretzels.com
SUMMARY:Destin Pretzels @ Punta Gorda Airport #2
DESCRIPTION:Sunday\, October 6th\, 2024 \nWe’re baking hot & delicious pretzels & pretzel dogs at the Punta Gorda Airport from 11am-3pm. So grab your bags and grab a warm delicious snack to tide you over before or after your flight! 🥨
URL:https://destinpretzels.com/event/destin-pretzels-punta-gorda-airport-2-2-2-2/
LOCATION:Punta Gorda Airport\, 28000 A-1 Airport Road\, Punta Gorda\, FL\, 33982
ATTACH;FMTTYPE=image/jpeg:https://destinpretzels.com/wp-content/uploads/2024/03/fly-pga.jpg
END:VEVENT
BEGIN:VEVENT
DTSTART;TZID=America/New_York:20241026T170000
DTEND;TZID=America/New_York:20241026T190000
DTSTAMP:20260422T072913
CREATED:20241026T160810Z
LAST-MODIFIED:20241026T160810Z
UID:799-1729962000-1729969200@destinpretzels.com
SUMMARY:Destin Pretzels @ Franz Ross YMCA Trunk or Treat
DESCRIPTION:Destin Pretzels will be serving up their delicious Mini-Pretzel Dogs and Pretzels this Saturday at the YMCA Trunk or Treat at the Franz Ross YMCA in Port Charlotte\, FL. on October 26th from 5-7 pm! \nComE out and  enjoy a Pretzel !
URL:https://destinpretzels.com/event/destin-pretzels-franz-ross-ymca-in-port-charlotte-on-03-23-2024-2/
LOCATION:YMCA – Franz Ross Park Branch\, 19333 Quesada Ave\,\, Port Charlotte\, FL\, 33948\, United States
ATTACH;FMTTYPE=image/jpeg:https://destinpretzels.com/wp-content/uploads/2024/03/IMG_1153.jpg
END:VEVENT
END:VCALENDAR