BEGIN:VCALENDAR
VERSION:2.0
PRODID:-//Destin Pretzel Company - ECPv6.15.17.1//NONSGML v1.0//EN
CALSCALE:GREGORIAN
METHOD:PUBLISH
X-ORIGINAL-URL:https://destinpretzels.com
X-WR-CALDESC:Events for Destin Pretzel Company
REFRESH-INTERVAL;VALUE=DURATION:PT1H
X-Robots-Tag:noindex
X-PUBLISHED-TTL:PT1H
BEGIN:VTIMEZONE
TZID:America/New_York
BEGIN:DAYLIGHT
TZOFFSETFROM:-0500
TZOFFSETTO:-0400
TZNAME:EDT
DTSTART:20230312T070000
END:DAYLIGHT
BEGIN:STANDARD
TZOFFSETFROM:-0400
TZOFFSETTO:-0500
TZNAME:EST
DTSTART:20231105T060000
END:STANDARD
BEGIN:DAYLIGHT
TZOFFSETFROM:-0500
TZOFFSETTO:-0400
TZNAME:EDT
DTSTART:20240310T070000
END:DAYLIGHT
BEGIN:STANDARD
TZOFFSETFROM:-0400
TZOFFSETTO:-0500
TZNAME:EST
DTSTART:20241103T060000
END:STANDARD
BEGIN:DAYLIGHT
TZOFFSETFROM:-0500
TZOFFSETTO:-0400
TZNAME:EDT
DTSTART:20250309T070000
END:DAYLIGHT
BEGIN:STANDARD
TZOFFSETFROM:-0400
TZOFFSETTO:-0500
TZNAME:EST
DTSTART:20251102T060000
END:STANDARD
END:VTIMEZONE
BEGIN:VEVENT
DTSTART;TZID=America/New_York:20241019T100000
DTEND;TZID=America/New_York:20241019T100000
DTSTAMP:20260422T072859
CREATED:20241018T160216Z
LAST-MODIFIED:20241018T160333Z
UID:785-1729332000-1729332000@destinpretzels.com
SUMMARY:Taste of North Port Food & Fall Fest
DESCRIPTION:Join us for the 4th Annual Taste of North Port Food & Fall Festival on Saturday\, October 19th from 10am-3pm at City Hall Center Green. 4970 City Hall Blvd. This event will feature local vendors\, crafts\, artisans\, local food trucks and more! Children’s costume parade and contest at 1pm. Prizes for 1st\, 2nd & 3rd place winners\, visit our website at www.llsnevents.com\n\nSponsored by: Local Ladies Social Network\, Inc. / LLSN Events
URL:https://destinpretzels.com/event/taste-of-north-port-food-fall-fest-2024/
LOCATION:North Port City Hall Center Green\, 4970 City Hall Blvd\, North Port\, FL\, 34286\, United States
ATTACH;FMTTYPE=image/jpeg:https://destinpretzels.com/wp-content/uploads/2024/10/taste-np.jpg
ORGANIZER;CN="Local Ladies Social Network":MAILTO:LLSN@comcast.net
END:VEVENT
END:VCALENDAR