BEGIN:VCALENDAR
VERSION:2.0
PRODID:-//Destin Pretzel Company - ECPv6.15.17.1//NONSGML v1.0//EN
CALSCALE:GREGORIAN
METHOD:PUBLISH
X-ORIGINAL-URL:https://destinpretzels.com
X-WR-CALDESC:Events for Destin Pretzel Company
REFRESH-INTERVAL;VALUE=DURATION:PT1H
X-Robots-Tag:noindex
X-PUBLISHED-TTL:PT1H
BEGIN:VTIMEZONE
TZID:America/New_York
BEGIN:DAYLIGHT
TZOFFSETFROM:-0500
TZOFFSETTO:-0400
TZNAME:EDT
DTSTART:20230312T070000
END:DAYLIGHT
BEGIN:STANDARD
TZOFFSETFROM:-0400
TZOFFSETTO:-0500
TZNAME:EST
DTSTART:20231105T060000
END:STANDARD
BEGIN:DAYLIGHT
TZOFFSETFROM:-0500
TZOFFSETTO:-0400
TZNAME:EDT
DTSTART:20240310T070000
END:DAYLIGHT
BEGIN:STANDARD
TZOFFSETFROM:-0400
TZOFFSETTO:-0500
TZNAME:EST
DTSTART:20241103T060000
END:STANDARD
BEGIN:DAYLIGHT
TZOFFSETFROM:-0500
TZOFFSETTO:-0400
TZNAME:EDT
DTSTART:20250309T070000
END:DAYLIGHT
BEGIN:STANDARD
TZOFFSETFROM:-0400
TZOFFSETTO:-0500
TZNAME:EST
DTSTART:20251102T060000
END:STANDARD
END:VTIMEZONE
BEGIN:VEVENT
DTSTART;TZID=America/New_York:20241018T170000
DTEND;TZID=America/New_York:20241018T210000
DTSTAMP:20260422T072914
CREATED:20241018T155410Z
LAST-MODIFIED:20241018T155410Z
UID:781-1729270800-1729285200@destinpretzels.com
SUMMARY:Destin Pretzels @  San Pedro Catholic Church 2024 Oktoberfest
DESCRIPTION:Come and join us this weekend for some fantastic festivities!!\n\nSan Pedro Catholic Church 2024 Oktoberfest\n\nWe’ll have great live music!! Amazing & authentic Bavarian style food & beer!! But most importantly it will be a great opportunity for many to take a load off\, share some laughs and even some tears with others. Hopefully we can bring Christ more deeply into our community\, as He has so graciously brought us through the storm..Now let us go where His spirit leads us and that we may share the immeasurable gift of His love with all those in need. Viva Cristo Rey!\n\n\n\n\n\n 
URL:https://destinpretzels.com/event/san-pedro-2024-oktoberfest/
LOCATION:San Pedro Catholic Church\, 14380 Tamiami Trail\, North Port\, FL\, 34287\, United States
ATTACH;FMTTYPE=image/jpeg:https://destinpretzels.com/wp-content/uploads/2024/10/san-pedro-new.jpg
END:VEVENT
END:VCALENDAR