BEGIN:VCALENDAR
VERSION:2.0
PRODID:-//Destin Pretzel Company - ECPv6.15.17.1//NONSGML v1.0//EN
CALSCALE:GREGORIAN
METHOD:PUBLISH
X-ORIGINAL-URL:https://destinpretzels.com
X-WR-CALDESC:Events for Destin Pretzel Company
REFRESH-INTERVAL;VALUE=DURATION:PT1H
X-Robots-Tag:noindex
X-PUBLISHED-TTL:PT1H
BEGIN:VTIMEZONE
TZID:America/New_York
BEGIN:DAYLIGHT
TZOFFSETFROM:-0500
TZOFFSETTO:-0400
TZNAME:EDT
DTSTART:20230312T070000
END:DAYLIGHT
BEGIN:STANDARD
TZOFFSETFROM:-0400
TZOFFSETTO:-0500
TZNAME:EST
DTSTART:20231105T060000
END:STANDARD
BEGIN:DAYLIGHT
TZOFFSETFROM:-0500
TZOFFSETTO:-0400
TZNAME:EDT
DTSTART:20240310T070000
END:DAYLIGHT
BEGIN:STANDARD
TZOFFSETFROM:-0400
TZOFFSETTO:-0500
TZNAME:EST
DTSTART:20241103T060000
END:STANDARD
BEGIN:DAYLIGHT
TZOFFSETFROM:-0500
TZOFFSETTO:-0400
TZNAME:EDT
DTSTART:20250309T070000
END:DAYLIGHT
BEGIN:STANDARD
TZOFFSETFROM:-0400
TZOFFSETTO:-0500
TZNAME:EST
DTSTART:20251102T060000
END:STANDARD
END:VTIMEZONE
BEGIN:VEVENT
DTSTART;TZID=America/New_York:20241001T180000
DTEND;TZID=America/New_York:20241001T203000
DTSTAMP:20260422T060503
CREATED:20240930T213103Z
LAST-MODIFIED:20240930T213103Z
UID:770-1727805600-1727814600@destinpretzels.com
SUMMARY:Destin Pretzels will be at North Port Police Department's National Night Out
DESCRIPTION:Come grab a Pretzel\, Mini-Dog Pretzel\, or a Pretzel Hot Dog while enjoying a fun\, family-friendly event? Come out to National Night Out tomorrow evening.  \n\n\n\n\n\n Tuesday\, October 1\, 2024\n 6:00 PM – 8:30 PM\n City Center Front Green\, 4970 City Hall Blvd\n\n\nGet ready for:\n Public Safety Demos\n K-9 Demos\n Static Displays\n Music & Entertainment\n Food\n Bounce Houses\n Laser Tag\n Vendors & MORE!\n\n\nThis is a FREE event\, perfect for the whole family to enjoy.
URL:https://destinpretzels.com/event/destin-pretzels-will-be-at-north-port-police-departments-national-night-out/
LOCATION:North Port City Hall Center Green\, 4970 City Hall Blvd\, North Port\, FL\, 34286\, United States
ATTACH;FMTTYPE=image/jpeg:https://destinpretzels.com/wp-content/uploads/2024/09/naples-night-scaled.jpg
ORGANIZER;CN="Norht Port Police Department":MAILTO:communitypolicing@northportpdfl.gov
END:VEVENT
END:VCALENDAR